BEGIN:VCALENDAR
VERSION:2.0
PRODID:-//Spinal Manipulation Institute - ECPv6.15.18//NONSGML v1.0//EN
CALSCALE:GREGORIAN
METHOD:PUBLISH
X-ORIGINAL-URL:https://spinalmanipulation.org
X-WR-CALDESC:Events for Spinal Manipulation Institute
REFRESH-INTERVAL;VALUE=DURATION:PT1H
X-Robots-Tag:noindex
X-PUBLISHED-TTL:PT1H
BEGIN:VTIMEZONE
TZID:UTC
BEGIN:STANDARD
TZOFFSETFROM:+0000
TZOFFSETTO:+0000
TZNAME:UTC
DTSTART:20250101T000000
END:STANDARD
END:VTIMEZONE
BEGIN:VEVENT
DTSTART;VALUE=DATE:20261016
DTEND;VALUE=DATE:20261019
DTSTAMP:20260425T115426
CREATED:20261016T232341Z
LAST-MODIFIED:20260404T232522Z
UID:10000998-1792108800-1792367999@spinalmanipulation.org
SUMMARY:DN-1 Salt Lake City\, UT
DESCRIPTION:DN-1: Dry Needling for Craniofacial\, Cervicothoracic & Upper Extremity Conditions: an Evidence-Based Approach (Part 1 of the Certification in Dry Needling)
URL:https://spinalmanipulation.org/seminar/dn-1-salt-lake-city-ut/
LOCATION:Salt Lake City\, UT\, Salt Lake City\, UT\, United States
CATEGORIES:DN,DN1
ATTACH;FMTTYPE=image/png:https://spinalmanipulation.org/wp-content/uploads/2018/01/dn1.png
ORGANIZER;CN="Dr. James Dunning":MAILTO:seminars@spinalmanipulation.org
GEO:40.7607793;-111.8910474
END:VEVENT
END:VCALENDAR