BEGIN:VCALENDAR
VERSION:2.0
PRODID:-//Spinal Manipulation Institute - ECPv6.15.18//NONSGML v1.0//EN
CALSCALE:GREGORIAN
METHOD:PUBLISH
X-ORIGINAL-URL:https://spinalmanipulation.org
X-WR-CALDESC:Events for Spinal Manipulation Institute
REFRESH-INTERVAL;VALUE=DURATION:PT1H
X-Robots-Tag:noindex
X-PUBLISHED-TTL:PT1H
BEGIN:VTIMEZONE
TZID:America/Chicago
BEGIN:DAYLIGHT
TZOFFSETFROM:-0600
TZOFFSETTO:-0500
TZNAME:CDT
DTSTART:20250309T080000
END:DAYLIGHT
BEGIN:STANDARD
TZOFFSETFROM:-0500
TZOFFSETTO:-0600
TZNAME:CST
DTSTART:20251102T070000
END:STANDARD
BEGIN:DAYLIGHT
TZOFFSETFROM:-0600
TZOFFSETTO:-0500
TZNAME:CDT
DTSTART:20260308T080000
END:DAYLIGHT
BEGIN:STANDARD
TZOFFSETFROM:-0500
TZOFFSETTO:-0600
TZNAME:CST
DTSTART:20261101T070000
END:STANDARD
BEGIN:DAYLIGHT
TZOFFSETFROM:-0600
TZOFFSETTO:-0500
TZNAME:CDT
DTSTART:20270314T080000
END:DAYLIGHT
BEGIN:STANDARD
TZOFFSETFROM:-0500
TZOFFSETTO:-0600
TZNAME:CST
DTSTART:20271107T070000
END:STANDARD
END:VTIMEZONE
BEGIN:VEVENT
DTSTART;VALUE=DATE:20260613
DTEND;VALUE=DATE:20260615
DTSTAMP:20260422T110621
CREATED:20260613T175059Z
LAST-MODIFIED:20250505T175403Z
UID:10000714-1781308800-1781481599@spinalmanipulation.org
SUMMARY:VCS-1 Las Vegas\, NV
DESCRIPTION:VCS-1: Diagnosis & Management of Concussions in the Athlete: An Evidence-Based Approach - Part 1 of the Vestibular Concussion Specialist Certification
URL:https://spinalmanipulation.org/seminar/vcs-1-las-vegas-nv/
LOCATION:Las Vegas\, NV\, Las Vegas\, NV\, United States
CATEGORIES:VCS,VCS1
ATTACH;FMTTYPE=image/png:https://spinalmanipulation.org/wp-content/uploads/2023/01/vcs1.png
GEO:36.1699412;-115.1398296
END:VEVENT
BEGIN:VEVENT
DTSTART;VALUE=DATE:20260620
DTEND;VALUE=DATE:20260622
DTSTAMP:20260422T110621
CREATED:20260620T203334Z
LAST-MODIFIED:20260407T171431Z
UID:10000711-1781913600-1782086399@spinalmanipulation.org
SUMMARY:VCS-1 Miami\, FL
DESCRIPTION:VCS-1: Diagnosis & Management of Concussions in the Athlete: An Evidence-Based Approach - Part 1 of the Vestibular Concussion Specialist Certification
URL:https://spinalmanipulation.org/seminar/vcs-1-miami-fl/
LOCATION:Miami\, FL\, Miami\, FL\, United States
CATEGORIES:VCS,VCS1
ATTACH;FMTTYPE=image/png:https://spinalmanipulation.org/wp-content/uploads/2023/01/vcs1.png
GEO:25.7616798;-80.1917902
END:VEVENT
END:VCALENDAR