BEGIN:VCALENDAR
VERSION:2.0
PRODID:-//Spinal Manipulation Institute - ECPv6.15.18//NONSGML v1.0//EN
CALSCALE:GREGORIAN
METHOD:PUBLISH
X-ORIGINAL-URL:https://spinalmanipulation.org
X-WR-CALDESC:Events for Spinal Manipulation Institute
REFRESH-INTERVAL;VALUE=DURATION:PT1H
X-Robots-Tag:noindex
X-PUBLISHED-TTL:PT1H
BEGIN:VTIMEZONE
TZID:America/Chicago
BEGIN:DAYLIGHT
TZOFFSETFROM:-0600
TZOFFSETTO:-0500
TZNAME:CDT
DTSTART:20250309T080000
END:DAYLIGHT
BEGIN:STANDARD
TZOFFSETFROM:-0500
TZOFFSETTO:-0600
TZNAME:CST
DTSTART:20251102T070000
END:STANDARD
BEGIN:DAYLIGHT
TZOFFSETFROM:-0600
TZOFFSETTO:-0500
TZNAME:CDT
DTSTART:20260308T080000
END:DAYLIGHT
BEGIN:STANDARD
TZOFFSETFROM:-0500
TZOFFSETTO:-0600
TZNAME:CST
DTSTART:20261101T070000
END:STANDARD
BEGIN:DAYLIGHT
TZOFFSETFROM:-0600
TZOFFSETTO:-0500
TZNAME:CDT
DTSTART:20270314T080000
END:DAYLIGHT
BEGIN:STANDARD
TZOFFSETFROM:-0500
TZOFFSETTO:-0600
TZNAME:CST
DTSTART:20271107T070000
END:STANDARD
END:VTIMEZONE
BEGIN:VEVENT
DTSTART;VALUE=DATE:20260822
DTEND;VALUE=DATE:20260824
DTSTAMP:20260424T095030
CREATED:20260822T165425Z
LAST-MODIFIED:20260325T211342Z
UID:10000927-1787356800-1787529599@spinalmanipulation.org
SUMMARY:VCS-1 Southborough\, MA
DESCRIPTION:VCS-1: Diagnosis & Management of Concussions in the Athlete: An Evidence-Based Approach - Part 1 of the Vestibular Concussion Specialist Certification
URL:https://spinalmanipulation.org/seminar/vcs-1-southborough-ma/
LOCATION:Southborough\, MA\, Southborough\, United States
CATEGORIES:VCS,VCS1
ATTACH;FMTTYPE=image/png:https://spinalmanipulation.org/wp-content/uploads/2023/01/vcs1.png
GEO:42.3056501;-71.5245087
END:VEVENT
END:VCALENDAR