BEGIN:VCALENDAR
VERSION:2.0
PRODID:-//Spinal Manipulation Institute - ECPv6.15.18//NONSGML v1.0//EN
CALSCALE:GREGORIAN
METHOD:PUBLISH
X-ORIGINAL-URL:https://spinalmanipulation.org
X-WR-CALDESC:Events for Spinal Manipulation Institute
REFRESH-INTERVAL;VALUE=DURATION:PT1H
X-Robots-Tag:noindex
X-PUBLISHED-TTL:PT1H
BEGIN:VTIMEZONE
TZID:America/Chicago
BEGIN:DAYLIGHT
TZOFFSETFROM:-0600
TZOFFSETTO:-0500
TZNAME:CDT
DTSTART:20250309T080000
END:DAYLIGHT
BEGIN:STANDARD
TZOFFSETFROM:-0500
TZOFFSETTO:-0600
TZNAME:CST
DTSTART:20251102T070000
END:STANDARD
BEGIN:DAYLIGHT
TZOFFSETFROM:-0600
TZOFFSETTO:-0500
TZNAME:CDT
DTSTART:20260308T080000
END:DAYLIGHT
BEGIN:STANDARD
TZOFFSETFROM:-0500
TZOFFSETTO:-0600
TZNAME:CST
DTSTART:20261101T070000
END:STANDARD
BEGIN:DAYLIGHT
TZOFFSETFROM:-0600
TZOFFSETTO:-0500
TZNAME:CDT
DTSTART:20270314T080000
END:DAYLIGHT
BEGIN:STANDARD
TZOFFSETFROM:-0500
TZOFFSETTO:-0600
TZNAME:CST
DTSTART:20271107T070000
END:STANDARD
BEGIN:DAYLIGHT
TZOFFSETFROM:-0600
TZOFFSETTO:-0500
TZNAME:CDT
DTSTART:20280312T080000
END:DAYLIGHT
BEGIN:STANDARD
TZOFFSETFROM:-0500
TZOFFSETTO:-0600
TZNAME:CST
DTSTART:20281105T070000
END:STANDARD
END:VTIMEZONE
BEGIN:VTIMEZONE
TZID:UTC
BEGIN:STANDARD
TZOFFSETFROM:+0000
TZOFFSETTO:+0000
TZNAME:UTC
DTSTART:20250101T000000
END:STANDARD
END:VTIMEZONE
BEGIN:VEVENT
DTSTART;VALUE=DATE:20260101
DTEND;VALUE=DATE:20270401
DTSTAMP:20260421T121030
CREATED:20260120T214005Z
LAST-MODIFIED:20260122T200831Z
UID:10000718-1767225600-1806537599@spinalmanipulation.org
SUMMARY:Dry Needling Supervision - 25 Live FaceTime Sessions for Florida PTs & DCs
DESCRIPTION:DN-3: Ultrasound Guided Dry Needling: Diagnosis & Management Implications for Spine & Extremity Musculoskeletal Conditions
URL:https://spinalmanipulation.org/seminar/supervision-requirement-for-25-patient-sessions-of-dry-needling-for-florida-pts/
LOCATION:Synchronous FaceTime/Google Duo Supervision – 25 sessions\, United States
CATEGORIES:FLReqs
ATTACH;FMTTYPE=image/jpeg:https://spinalmanipulation.org/wp-content/uploads/2030/06/zoom2.jpg
ORGANIZER;CN="Dr. James Dunning":MAILTO:seminars@spinalmanipulation.org
GEO:37.09024;-95.712891
END:VEVENT
BEGIN:VEVENT
DTSTART;VALUE=DATE:20260301
DTEND;VALUE=DATE:20260601
DTSTAMP:20260421T121030
CREATED:20261226T055619Z
LAST-MODIFIED:20260323T181823Z
UID:10000847-1772323200-1780271999@spinalmanipulation.org
SUMMARY:AAMT Fellowship – 1st Quarter Tuition
DESCRIPTION:DN-3: Ultrasound Guided Dry Needling: Diagnosis & Management Implications for Spine & Extremity Musculoskeletal Conditions
URL:https://spinalmanipulation.org/seminar/aamt-fellowship-1st-quarter-tuition/
LOCATION:AZ
CATEGORIES:AAMT
ATTACH;FMTTYPE=image/png:https://spinalmanipulation.org/wp-content/uploads/2018/01/dd1.png
END:VEVENT
BEGIN:VEVENT
DTSTART;VALUE=DATE:20260301
DTEND;VALUE=DATE:20270301
DTSTAMP:20260421T121030
CREATED:20260630T214744Z
LAST-MODIFIED:20250616T224032Z
UID:10000716-1772323200-1803859199@spinalmanipulation.org
SUMMARY:Tuition Deposit - AAMT Fellowship - 2026 Cohort
DESCRIPTION:DN-3: Ultrasound Guided Dry Needling: Diagnosis & Management Implications for Spine & Extremity Musculoskeletal Conditions
URL:https://spinalmanipulation.org/seminar/aamt-fellowship-deposit/
LOCATION:Dallas\, TX
CATEGORIES:AAMT
ATTACH;FMTTYPE=image/png:https://spinalmanipulation.org/wp-content/uploads/2018/01/dd1.png
ORGANIZER;CN="Dr. James Dunning":MAILTO:seminars@spinalmanipulation.org
END:VEVENT
BEGIN:VEVENT
DTSTART;VALUE=DATE:20260424
DTEND;VALUE=DATE:20260427
DTSTAMP:20260421T121030
CREATED:20260424T182418Z
LAST-MODIFIED:20251219T023913Z
UID:10000787-1776988800-1777247999@spinalmanipulation.org
SUMMARY:DN-2 Lake Mary\, FL
DESCRIPTION:DN-3: Ultrasound Guided Dry Needling: Diagnosis & Management Implications for Spine & Extremity Musculoskeletal Conditions
URL:https://spinalmanipulation.org/seminar/dn-2-lake-mary-fl-2/
LOCATION:Lake Mary\, FL\, Lake Mary\, United States
CATEGORIES:DN,DN2
ATTACH;FMTTYPE=image/png:https://spinalmanipulation.org/wp-content/uploads/2018/01/dn2.png
ORGANIZER;CN="Dr. James Dunning":MAILTO:seminars@spinalmanipulation.org
GEO:28.7588833;-81.3178446
END:VEVENT
BEGIN:VEVENT
DTSTART;VALUE=DATE:20260424
DTEND;VALUE=DATE:20260427
DTSTAMP:20260421T121030
CREATED:20260424T192940Z
LAST-MODIFIED:20251204T203303Z
UID:10000848-1776988800-1777247999@spinalmanipulation.org
SUMMARY:DN-1 Morristown\, NJ
DESCRIPTION:DN-3: Ultrasound Guided Dry Needling: Diagnosis & Management Implications for Spine & Extremity Musculoskeletal Conditions
URL:https://spinalmanipulation.org/seminar/dn-1-morristown-nj/
LOCATION:Morristown\, NJ\, Morristown\, NJ\, United States
CATEGORIES:DN,DN1
ATTACH;FMTTYPE=image/png:https://spinalmanipulation.org/wp-content/uploads/2018/01/dn1.png
ORGANIZER;CN="Dr. James Dunning":MAILTO:seminars@spinalmanipulation.org
GEO:40.7922983;-74.4763123
END:VEVENT
BEGIN:VEVENT
DTSTART;VALUE=DATE:20260424
DTEND;VALUE=DATE:20260427
DTSTAMP:20260421T121030
CREATED:20260424T201223Z
LAST-MODIFIED:20251001T201432Z
UID:10000778-1776988800-1777247999@spinalmanipulation.org
SUMMARY:DN-2 Fort Worth\, TX
DESCRIPTION:DN-3: Ultrasound Guided Dry Needling: Diagnosis & Management Implications for Spine & Extremity Musculoskeletal Conditions
URL:https://spinalmanipulation.org/seminar/dn-2-fort-worth-tx/
LOCATION:Fort Worth\, TX\, Fort Worth\, TX\, United States
CATEGORIES:DN,DN2
ATTACH;FMTTYPE=image/png:https://spinalmanipulation.org/wp-content/uploads/2018/01/dn2.png
ORGANIZER;CN="Dr. James Dunning":MAILTO:seminars@spinalmanipulation.org
GEO:32.7554883;-97.3307658
END:VEVENT
BEGIN:VEVENT
DTSTART;VALUE=DATE:20260424
DTEND;VALUE=DATE:20260427
DTSTAMP:20260421T121030
CREATED:20260424T224841Z
LAST-MODIFIED:20250916T225107Z
UID:10000760-1776988800-1777247999@spinalmanipulation.org
SUMMARY:PFDN Seattle\, WA
DESCRIPTION:DN-3: Ultrasound Guided Dry Needling: Diagnosis & Management Implications for Spine & Extremity Musculoskeletal Conditions
URL:https://spinalmanipulation.org/seminar/pfdn-seattle-wa/
LOCATION:Seattle\, WA\, Seattle\, WA\, United States
CATEGORIES:PFDN
ATTACH;FMTTYPE=image/jpeg:https://spinalmanipulation.org/wp-content/uploads/2023/05/pelvic-floor-abdomen-istock-pic-final-scaled.jpg
GEO:47.6062095;-122.3320708
END:VEVENT
BEGIN:VEVENT
DTSTART;VALUE=DATE:20260424
DTEND;VALUE=DATE:20260427
DTSTAMP:20260421T121030
CREATED:20260424T231424Z
LAST-MODIFIED:20260113T001648Z
UID:10000885-1776988800-1777247999@spinalmanipulation.org
SUMMARY:DN-1 Denver\, CO
DESCRIPTION:DN-3: Ultrasound Guided Dry Needling: Diagnosis & Management Implications for Spine & Extremity Musculoskeletal Conditions
URL:https://spinalmanipulation.org/seminar/dn-1-denver-co-3/
LOCATION:Denver\, CO
CATEGORIES:DN,DN1
ATTACH;FMTTYPE=image/png:https://spinalmanipulation.org/wp-content/uploads/2018/01/dn1.png
ORGANIZER;CN="Dr. James Dunning":MAILTO:seminars@spinalmanipulation.org
END:VEVENT
BEGIN:VEVENT
DTSTART;VALUE=DATE:20260424
DTEND;VALUE=DATE:20260427
DTSTAMP:20260421T121030
CREATED:20260424T231959Z
LAST-MODIFIED:20260113T002350Z
UID:10000887-1776988800-1777247999@spinalmanipulation.org
SUMMARY:DN-1 Boise\, ID
DESCRIPTION:DN-3: Ultrasound Guided Dry Needling: Diagnosis & Management Implications for Spine & Extremity Musculoskeletal Conditions
URL:https://spinalmanipulation.org/seminar/dn-1-boise-id/
LOCATION:Boise\, ID\, Boise\, ID\, United States
CATEGORIES:DN,DN1
ATTACH;FMTTYPE=image/png:https://spinalmanipulation.org/wp-content/uploads/2018/01/dn1.png
ORGANIZER;CN="Dr. James Dunning":MAILTO:seminars@spinalmanipulation.org
GEO:43.6150186;-116.2023137
END:VEVENT
BEGIN:VEVENT
DTSTART;VALUE=DATE:20260424
DTEND;VALUE=DATE:20260427
DTSTAMP:20260421T121030
CREATED:20260425T011710Z
LAST-MODIFIED:20251219T191750Z
UID:10000858-1776988800-1777247999@spinalmanipulation.org
SUMMARY:DN-2 West Orange\, NJ
DESCRIPTION:DN-3: Ultrasound Guided Dry Needling: Diagnosis & Management Implications for Spine & Extremity Musculoskeletal Conditions
URL:https://spinalmanipulation.org/seminar/dn-2-west-orange-nj/
LOCATION:West Orange\, NJ\, West Orange\, United States
CATEGORIES:DN,DN2
ATTACH;FMTTYPE=image/png:https://spinalmanipulation.org/wp-content/uploads/2018/01/dn2.png
ORGANIZER;CN="Dr. James Dunning":MAILTO:seminars@spinalmanipulation.org
GEO:40.7882429;-74.2562099
END:VEVENT
BEGIN:VEVENT
DTSTART;VALUE=DATE:20260424
DTEND;VALUE=DATE:20260427
DTSTAMP:20260421T121030
CREATED:20260425T012243Z
LAST-MODIFIED:20251219T024130Z
UID:10000859-1776988800-1777247999@spinalmanipulation.org
SUMMARY:DN-2 Kansas City\, KS
DESCRIPTION:DN-3: Ultrasound Guided Dry Needling: Diagnosis & Management Implications for Spine & Extremity Musculoskeletal Conditions
URL:https://spinalmanipulation.org/seminar/dn-2-kansas-city-ks/
LOCATION:Kansas City\, KS\, Kansas City\, KS\, United States
CATEGORIES:DN,DN2
ATTACH;FMTTYPE=image/png:https://spinalmanipulation.org/wp-content/uploads/2018/01/dn2.png
ORGANIZER;CN="Dr. James Dunning":MAILTO:seminars@spinalmanipulation.org
GEO:39.1155314;-94.6267873
END:VEVENT
BEGIN:VEVENT
DTSTART;VALUE=DATE:20260425
DTEND;VALUE=DATE:20260427
DTSTAMP:20260421T121030
CREATED:20260425T173621Z
LAST-MODIFIED:20250919T173813Z
UID:10000768-1777075200-1777247999@spinalmanipulation.org
SUMMARY:Cert. BFR Houston\, TX
DESCRIPTION:DN-3: Ultrasound Guided Dry Needling: Diagnosis & Management Implications for Spine & Extremity Musculoskeletal Conditions
URL:https://spinalmanipulation.org/seminar/bfr-houston-tx/
LOCATION:Houston\, TX\, Houston\, TX\, United States
CATEGORIES:BFR
ATTACH;FMTTYPE=image/jpeg:https://spinalmanipulation.org/wp-content/uploads/2023/04/bfr-picture-1.jpg
GEO:29.7604267;-95.3698028
END:VEVENT
BEGIN:VEVENT
DTSTART;VALUE=DATE:20260425
DTEND;VALUE=DATE:20260427
DTSTAMP:20260421T121030
CREATED:20260425T224327Z
LAST-MODIFIED:20250422T151604Z
UID:10000712-1777075200-1777247999@spinalmanipulation.org
SUMMARY:VCS-2 Chicago\, IL
DESCRIPTION:DN-3: Ultrasound Guided Dry Needling: Diagnosis & Management Implications for Spine & Extremity Musculoskeletal Conditions
URL:https://spinalmanipulation.org/seminar/vcs-2-chicago-il/
LOCATION:Chicago\, IL
CATEGORIES:VCS,VCS2
ATTACH;FMTTYPE=image/png:https://spinalmanipulation.org/wp-content/uploads/2023/01/vcs2.png
ORGANIZER;CN="Dr. James Escaloni":MAILTO:seminars@spinalmanipulation.org
END:VEVENT
BEGIN:VEVENT
DTSTART;VALUE=DATE:20260425
DTEND;VALUE=DATE:20260427
DTSTAMP:20260421T121030
CREATED:20260426T000521Z
LAST-MODIFIED:20260115T175355Z
UID:10000639-1777075200-1777247999@spinalmanipulation.org
SUMMARY:SMT-3 Thessaloniki\, GREECE
DESCRIPTION:DN-3: Ultrasound Guided Dry Needling: Diagnosis & Management Implications for Spine & Extremity Musculoskeletal Conditions
URL:https://spinalmanipulation.org/seminar/smt-3-thessaloniki-greece/
LOCATION:Thessaloniki\, Greece\, Thessaloniki\, Greece
CATEGORIES:SMT,SMT3
ATTACH;FMTTYPE=image/jpeg:https://spinalmanipulation.org/wp-content/uploads/2018/01/smt3.jpg
GEO:40.6400629;22.9444191
END:VEVENT
BEGIN:VEVENT
DTSTART;VALUE=DATE:20260425
DTEND;VALUE=DATE:20260427
DTSTAMP:20260421T121030
CREATED:20260426T020921Z
LAST-MODIFIED:20260114T031307Z
UID:10000897-1777075200-1777247999@spinalmanipulation.org
SUMMARY:SMT-1 Minneapolis\, MN
DESCRIPTION:DN-3: Ultrasound Guided Dry Needling: Diagnosis & Management Implications for Spine & Extremity Musculoskeletal Conditions
URL:https://spinalmanipulation.org/seminar/smt-1-minneapolis-mn/
LOCATION:Minneapolis\, MN\, Minneapolis\, MN\, United States
CATEGORIES:SMT,SMT1
ATTACH;FMTTYPE=image/jpeg:https://spinalmanipulation.org/wp-content/uploads/2018/01/smt1.jpg
ORGANIZER;CN="Dr. James Dunning":MAILTO:seminars@spinalmanipulation.org
GEO:44.977753;-93.2650108
END:VEVENT
BEGIN:VEVENT
DTSTART;VALUE=DATE:20260425
DTEND;VALUE=DATE:20260427
DTSTAMP:20260421T121030
CREATED:20260426T021342Z
LAST-MODIFIED:20260114T032148Z
UID:10000898-1777075200-1777247999@spinalmanipulation.org
SUMMARY:SMT-1 Richmond\, VA
DESCRIPTION:DN-3: Ultrasound Guided Dry Needling: Diagnosis & Management Implications for Spine & Extremity Musculoskeletal Conditions
URL:https://spinalmanipulation.org/seminar/smt-1-richmond-va/
LOCATION:Richmond\, VA\, Richmond\, VA\, United States
CATEGORIES:SMT,SMT1
ATTACH;FMTTYPE=image/jpeg:https://spinalmanipulation.org/wp-content/uploads/2018/01/smt1.jpg
ORGANIZER;CN="Dr. James Dunning":MAILTO:seminars@spinalmanipulation.org
GEO:37.5407246;-77.4360481
END:VEVENT
END:VCALENDAR