BEGIN:VCALENDAR
VERSION:2.0
PRODID:-//Spinal Manipulation Institute - ECPv6.15.18//NONSGML v1.0//EN
CALSCALE:GREGORIAN
METHOD:PUBLISH
X-WR-CALNAME:Spinal Manipulation Institute
X-ORIGINAL-URL:https://spinalmanipulation.org
X-WR-CALDESC:Events for Spinal Manipulation Institute
REFRESH-INTERVAL;VALUE=DURATION:PT1H
X-Robots-Tag:noindex
X-PUBLISHED-TTL:PT1H
BEGIN:VTIMEZONE
TZID:UTC
BEGIN:STANDARD
TZOFFSETFROM:+0000
TZOFFSETTO:+0000
TZNAME:UTC
DTSTART:20250101T000000
END:STANDARD
END:VTIMEZONE
BEGIN:VEVENT
DTSTART;VALUE=DATE:20260501
DTEND;VALUE=DATE:20260504
DTSTAMP:20260422T071938
CREATED:20260502T015412Z
LAST-MODIFIED:20251219T025705Z
UID:10000860-1777593600-1777852799@spinalmanipulation.org
SUMMARY:DN-2 Little Rock\, AR
DESCRIPTION:
URL:https://spinalmanipulation.org/seminar/dn-2-little-rock-ar-2/
LOCATION:Little Rock\, AR\, Little Rock\, AR\, United States
CATEGORIES:DN,DN2
ATTACH;FMTTYPE=image/png:https://spinalmanipulation.org/wp-content/uploads/2018/01/dn2.png
ORGANIZER;CN="Dr. James Dunning":MAILTO:seminars@spinalmanipulation.org
GEO:34.7464809;-92.2895948
END:VEVENT
BEGIN:VEVENT
DTSTART;VALUE=DATE:20260612
DTEND;VALUE=DATE:20260615
DTSTAMP:20260422T071938
CREATED:20260612T211410Z
LAST-MODIFIED:20260114T223630Z
UID:10000912-1781222400-1781481599@spinalmanipulation.org
SUMMARY:DN-1 Little Rock\, AR
DESCRIPTION:
URL:https://spinalmanipulation.org/seminar/dn-1-little-rock-ar-3/
LOCATION:Little Rock\, AR\, Little Rock\, AR\, United States
CATEGORIES:DN,DN1
ATTACH;FMTTYPE=image/png:https://spinalmanipulation.org/wp-content/uploads/2018/01/dn1.png
ORGANIZER;CN="Dr. James Dunning":MAILTO:seminars@spinalmanipulation.org
GEO:34.7464809;-92.2895948
END:VEVENT
BEGIN:VEVENT
DTSTART;VALUE=DATE:20260731
DTEND;VALUE=DATE:20260803
DTSTAMP:20260422T071938
CREATED:20260731T202303Z
LAST-MODIFIED:20260326T204507Z
UID:10000951-1785456000-1785715199@spinalmanipulation.org
SUMMARY:DN-2 Little Rock\, AR
DESCRIPTION:
URL:https://spinalmanipulation.org/seminar/dn-2-little-rock-ar/
LOCATION:Little Rock\, AR\, Little Rock\, AR\, United States
CATEGORIES:DN,DN2
ATTACH;FMTTYPE=image/png:https://spinalmanipulation.org/wp-content/uploads/2018/01/dn2.png
ORGANIZER;CN="Dr. James Dunning":MAILTO:seminars@spinalmanipulation.org
GEO:34.7464809;-92.2895948
END:VEVENT
BEGIN:VEVENT
DTSTART;VALUE=DATE:20260927
DTEND;VALUE=DATE:20260930
DTSTAMP:20260422T071938
CREATED:20260925T231811Z
LAST-MODIFIED:20260404T232225Z
UID:10000997-1790467200-1790726399@spinalmanipulation.org
SUMMARY:DN-1 Little Rock\, AR
DESCRIPTION:
URL:https://spinalmanipulation.org/seminar/dn-1-little-rock-ar-2/
LOCATION:Little Rock\, AR\, Little Rock\, AR\, United States
CATEGORIES:DN,DN1
ATTACH;FMTTYPE=image/png:https://spinalmanipulation.org/wp-content/uploads/2018/01/dn1.png
ORGANIZER;CN="Dr. James Dunning":MAILTO:seminars@spinalmanipulation.org
GEO:34.7464809;-92.2895948
END:VEVENT
END:VCALENDAR