BEGIN:VCALENDAR
VERSION:2.0
PRODID:-//Spinal Manipulation Institute - ECPv6.15.18//NONSGML v1.0//EN
CALSCALE:GREGORIAN
METHOD:PUBLISH
X-ORIGINAL-URL:https://spinalmanipulation.org
X-WR-CALDESC:Events for Spinal Manipulation Institute
REFRESH-INTERVAL;VALUE=DURATION:PT1H
X-Robots-Tag:noindex
X-PUBLISHED-TTL:PT1H
BEGIN:VTIMEZONE
TZID:UTC
BEGIN:STANDARD
TZOFFSETFROM:+0000
TZOFFSETTO:+0000
TZNAME:UTC
DTSTART:20250101T000000
END:STANDARD
END:VTIMEZONE
BEGIN:VEVENT
DTSTART;VALUE=DATE:20260612
DTEND;VALUE=DATE:20260615
DTSTAMP:20260420T044824
CREATED:20260612T215307Z
LAST-MODIFIED:20260114T225510Z
UID:10000918-1781222400-1781481599@spinalmanipulation.org
SUMMARY:DN-2 Orange Park\, FL
DESCRIPTION:
URL:https://spinalmanipulation.org/seminar/dn-2-orange-park-fl-2/
LOCATION:Orange Park\, FL\, Orange Park\, Florida\, 32073\, United States
CATEGORIES:DN,DN2
ATTACH;FMTTYPE=image/png:https://spinalmanipulation.org/wp-content/uploads/2018/01/dn2.png
ORGANIZER;CN="Dr. James Dunning":MAILTO:seminars@spinalmanipulation.org
GEO:30.1660736;-81.706484
END:VEVENT
BEGIN:VEVENT
DTSTART;VALUE=DATE:20260821
DTEND;VALUE=DATE:20260824
DTSTAMP:20260420T044824
CREATED:20260821T223404Z
LAST-MODIFIED:20260404T223703Z
UID:10000985-1787270400-1787529599@spinalmanipulation.org
SUMMARY:DN-1 Orange Park\, FL
DESCRIPTION:
URL:https://spinalmanipulation.org/seminar/dn-1-orange-park-fl-2/
LOCATION:Orange Park\, FL\, Orange Park\, Florida\, 32073\, United States
CATEGORIES:DN,DN1
ATTACH;FMTTYPE=image/png:https://spinalmanipulation.org/wp-content/uploads/2018/01/dn1.png
ORGANIZER;CN="Dr. James Dunning":MAILTO:seminars@spinalmanipulation.org
GEO:30.1660736;-81.706484
END:VEVENT
END:VCALENDAR