BEGIN:VCALENDAR
VERSION:2.0
PRODID:-//Spinal Manipulation Institute - ECPv6.15.18//NONSGML v1.0//EN
CALSCALE:GREGORIAN
METHOD:PUBLISH
X-WR-CALNAME:Spinal Manipulation Institute
X-ORIGINAL-URL:https://spinalmanipulation.org
X-WR-CALDESC:Events for Spinal Manipulation Institute
REFRESH-INTERVAL;VALUE=DURATION:PT1H
X-Robots-Tag:noindex
X-PUBLISHED-TTL:PT1H
BEGIN:VTIMEZONE
TZID:UTC
BEGIN:STANDARD
TZOFFSETFROM:+0000
TZOFFSETTO:+0000
TZNAME:UTC
DTSTART:20250101T000000
END:STANDARD
END:VTIMEZONE
BEGIN:VEVENT
DTSTART;VALUE=DATE:20260501
DTEND;VALUE=DATE:20260504
DTSTAMP:20260419T172502
CREATED:20260501T234156Z
LAST-MODIFIED:20260113T004424Z
UID:10000892-1777593600-1777852799@spinalmanipulation.org
SUMMARY:DN-1 Vancouver\, WA
DESCRIPTION:
URL:https://spinalmanipulation.org/seminar/dn-1-vancouver-wa-2/
LOCATION:Vancouver\, WA\, Vancouver\, WA\, United States
CATEGORIES:DN,DN1
ATTACH;FMTTYPE=image/png:https://spinalmanipulation.org/wp-content/uploads/2018/01/dn1.png
ORGANIZER;CN="Dr. James Dunning":MAILTO:seminars@spinalmanipulation.org
GEO:45.6280277;-122.673865
END:VEVENT
BEGIN:VEVENT
DTSTART;VALUE=DATE:20260710
DTEND;VALUE=DATE:20260713
DTSTAMP:20260419T172502
CREATED:20260710T193529Z
LAST-MODIFIED:20260326T193758Z
UID:10000943-1783641600-1783900799@spinalmanipulation.org
SUMMARY:DN-2 Vancouver\, WA
DESCRIPTION:
URL:https://spinalmanipulation.org/seminar/dn-2-vancouver-wa/
LOCATION:Vancouver\, WA\, Vancouver\, WA\, United States
CATEGORIES:DN,DN2
ATTACH;FMTTYPE=image/png:https://spinalmanipulation.org/wp-content/uploads/2018/01/dn2.png
ORGANIZER;CN="Dr. James Dunning":MAILTO:seminars@spinalmanipulation.org
GEO:45.6280277;-122.673865
END:VEVENT
END:VCALENDAR